BEGIN:VCALENDAR
VERSION:2.0
PRODID:-//Maro//Demo Day//EN
CALSCALE:GREGORIAN
BEGIN:VEVENT
UID:maro-demo-day-20260408@seekmaro.com
DTSTAMP:20260311T000000Z
DTSTART:20260408T173000Z
DTEND:20260408T180000Z
SUMMARY:Maro Demo Day
DESCRIPTION:Join our quarterly Demo Day to see the latest and greatest from Maro! 🎉\n\nJoin Zoom: https://events.zoom.us/ej/Ah4tS_txX683ncBFoSBkgOqt9V1HTEAJ_bZAzLYwsC86x8tMM6fq~A3MZ0yLaFVU0SkIl-z5av3-O_bBeioUVE-yxHE-tgIzv5YF1ja-e-sCIgAdOg
LOCATION:https://events.zoom.us/ej/Ah4tS_txX683ncBFoSBkgOqt9V1HTEAJ_bZAzLYwsC86x8tMM6fq~A3MZ0yLaFVU0SkIl-z5av3-O_bBeioUVE-yxHE-tgIzv5YF1ja-e-sCIgAdOg
STATUS:CONFIRMED
END:VEVENT
END:VCALENDAR
